﻿BEGIN:VCALENDAR
VERSION:2.0
PRODID:-//Real Estate Commission - ECPv5.3.2.1//NONSGML v1.0//EN
CALSCALE:GREGORIAN
METHOD:PUBLISH
X-WR-CALNAME:Real Estate Commission
X-ORIGINAL-URL:https://irec.idaho.gov
X-WR-CALDESC:Events for Real Estate Commission
BEGIN:VTIMEZONE
TZID:America/Boise
BEGIN:DAYLIGHT
TZOFFSETFROM:-0700
TZOFFSETTO:-0600
TZNAME:MDT
DTSTART:20210314T090000
END:DAYLIGHT
BEGIN:STANDARD
TZOFFSETFROM:-0600
TZOFFSETTO:-0700
TZNAME:MST
DTSTART:20211107T080000
END:STANDARD
END:VTIMEZONE
BEGIN:VEVENT
DTSTART;VALUE=DATE:20211011
DTEND;VALUE=DATE:20211012
DTSTAMP:20210914T155812
CREATED:20190307T165302Z
LAST-MODIFIED:20190307T165302Z
UID:1077-1633910400-1633996799@irec.idaho.gov
SUMMARY:Columbus Day (closed)
DESCRIPTION:State holiday observed and we will be closed.
URL:https://irec.idaho.gov/event/columbus-day/2021-10-11/
END:VEVENT
BEGIN:VEVENT
DTSTART;TZID=America/Boise:20211014T100000
DTEND;TZID=America/Boise:20211014T113000
DTSTAMP:20210914T155812
CREATED:20210804T230733Z
LAST-MODIFIED:20210804T230733Z
UID:2277-1634205600-1634211000@irec.idaho.gov
SUMMARY:Provider Training for Provider Directors
DESCRIPTION:Provider Training Registration
URL:https://irec.idaho.gov/event/provider-training-for-provider-directors-2/
END:VEVENT
BEGIN:VEVENT
DTSTART;TZID=America/Boise:20211019T134500
DTEND;TZID=America/Boise:20211019T170000
DTSTAMP:20210914T155812
CREATED:20210805T210604Z
LAST-MODIFIED:20210805T213700Z
UID:2294-1634651100-1634662800@irec.idaho.gov
SUMMARY:Commission Meeting
DESCRIPTION:To attend the Commission meeting and receive Continuing Education credit\, no registration is needed. Sign in upon arrival.
URL:https://irec.idaho.gov/event/commission-meeting-9/
END:VEVENT
BEGIN:VEVENT
DTSTART;TZID=America/Boise:20211025T083000
DTEND;TZID=America/Boise:20211025T123000
DTSTAMP:20210914T155812
CREATED:20210805T214326Z
LAST-MODIFIED:20210805T214326Z
UID:2314-1635150600-1635165000@irec.idaho.gov
SUMMARY:Education Council Meeting
DESCRIPTION:
URL:https://irec.idaho.gov/event/education-council-meeting-11/
END:VEVENT
END:VCALENDAR